Workbook

Sheet 1bB
A1: 1. ročník Biológia
A2: MENO | B2: O1-O10 | C2: A-P | D2: ch1-ch6 | E2: I-VII
A3: Adamová Linda | B3: O7 | C3: K | D3: ch4
A4: Achbergerová Lujza | B4: O7 | C4: N | D4: ch4 | E4: II
A5: Aliosmanovová Ajlin | B5: O9 | C5: O | D5: ch1
A6: Almanová Emma | B6: O7 | C6: L | D6: ch4
A7: Ammar Sara Sabri Mahmoud | B7: O10 | C7: L | D7: ch3
A8: Babulová Lenka | B8: O5 | C8: L | D8: ch2 | E8: VI
A9: Bačinská Karina | B9: O7 | C9: N | D9: ch4 | E9: II
A10: Bačová Eliška | B10: O7 | C10: N | D10: ch4 | E10: II
A11: Bakitová Sophia Zoja | B11: O7 | C11: M | D11: ch4 | E11: II
A12: Barnau Anna- Sophie | B12: O7 | C12: L | D12: ch4
A13: Barthová Karolína | B13: O7 | C13: M | D13: ch4 | E13: III
A14: Belanská Karolína | B14: O7 | C14: L | D14: ch4 | E14: V
A15: Bezáková Barbora | B15: O3 | C15: M | D15: ch4
A16: Blašková Liana | B16: O7 | C16: L | D16: ch4 | E16: IV
A17: Blaškovičová Karin | B17: O7 | C17: N | D17: ch4
A18: Bodó Ágnes | B18: O9 | C18: K | D18: ch1
A19: Bolečeková Sofia | B19: O5 | C19: L | D19: ch4 | E19: VI
A20: Bondurovska Viktoriia | B20: O6 | C20: M | D20: ch4
A21: Brindzová Eva | B21: O3 | C21: M | D21: ch4 | E21: II
A22: Citterberg Lukrécia | B22: O5 | C22: L | D22: ch4 | E22: VI
A23: Csizmadiová Amália | B23: O9 | C23: K | D23: ch1
A24: Čemanová Lea | B24: O5 | C24: L | D24: ch4 | E24: VI
A25: Čičová Eliška | B25: O5 | C25: L | D25: ch4
A26: Ďaďová Alexandra | B26: O5 | C26: L | D26: ch4
A27: Daňová Dominika | B27: O3 | C27: G | D27: ch4 | E27: II
A28: Dávidíková Monika | B28: O3 | C28: M | D28: ch4 | E28: I
A29: Devečka Samuel | B29: O3 | C29: G | D29: ch4
A30: Dudorov Artem | B30: O3 | C30: G | D30: ch4
A31: Duchovič Timotej | B31: O9 | C31: O | D31: ch1 | E31: II
A32: Egorova Aitalina | B32: O3 | C32: G | D32: ch4
A33: Elkhatib Bahaaeldin M.J. | B33: O3 | C33: G | D33: ch4
A34: Emödi Emma | B34: O3 | C34: G | D34: ch4
A35: Fabušová Stanislava | B35: O3 | C35: M | D35: ch4
A36: Farkas Sofia | B36: O3 | C36: G | D36: ch4 | E36: I
A37: Fedák Filip | B37: O3 | C37: G | D37: ch5 | E37: V
A38: Fedykovych Daryna | B38: O3 | C38: M | D38: ch5
A39: Fidesová Sofia | B39: O9 | C39: O | D39: ch1
A40: Francisty Patrik | B40: O3 | C40: G | D40: ch6 | E40: II
A41: Gallíková Tamara | B41: O8 | C41: A | D41: ch5 | E41: III
A42: Goriláková Tamara | B42: O7 | C42: M | D42: ch5
A43: Gregorová Simona | B43: O3 | C43: M | D43: ch5 | E43: II
A44: Grešlíková Paulína | B44: O3 | C44: M | D44: ch5
A45: Gromyko Sofia | B45: O3 | C45: G | D45: ch6
A46: Gulázsiová Liliana | B46: O9 | C46: K | D46: ch1
A47: Gutyanová Nina | B47: O3 | C47: G | D47: ch5 | E47: II
A48: Hájovská Nela | B48: O5 | C48: G | D48: ch2
A49: Hajtolová Alexandra | B49: O5 | C49: H | D49: ch2
A50: Harvancová Andrea | B50: O4 | C50: A | D50: ch6
A51: Harvánek Adrián | B51: O5 | C51: H | D51: ch2 | E51: III
A52: Holúbková Andrea | B52: O5 | C52: H | D52: ch2
A53: Horecká Júlia | B53: O4 | C53: A | D53: ch5
A54: Horníková Bibiana | B54: O5 | C54: H | D54: ch2
A55: Horváthová Sofia | B55: O5 | C55: H | D55: ch2 | E55: V
A56: Hudáková Marianna | B56: O4 | C56: A | D56: ch5 | E56: III
A57: Hudec Šimon | B57: O5 | C57: H | D57: ch2
A58: Hvizdošová Silvia | B58: O4 | C58: A | D58: ch6
A59: Chalmovský Nikolas | B59: O5 | C59: H | D59: ch2
A60: Chlebčoková Ema | B60: O5 | C60: H | D60: ch2 | E60: III
A61: Chovanec Christian Pavel | B61: O5 | C61: H | D61: ch2
A62: Chovanová Henrieta | B62: O4 | C62: A | D62: ch6 | E62: I
A63: Churkina Polina | B63: O6 | C63: H | D63: ch2
A64: Iľko Dominik | B64: O6 | C64: H | D64: ch2 | E64: V
A65: Ivanov Oleh | B65: O5 | C65: H | D65: ch2 | E65: VI
A66: Jančeková Nina | B66: O4 | C66: A | D66: ch6 | E66: I
A67: Janglová Viktória | B67: O4 | C67: A | D67: ch5 | E67: II
A68: Jankovičová Nina | B68: O6 | C68: I | D68: ch2
A69: Janovič Karolína | B69: O9 | C69: K | D69: ch1 | E69: II
A70: Jean-Jean Ema Olivia | B70: O6 | C70: I | D70: ch2
A71: Jurčáková Katarína | B71: O6 | C71: I | D71: ch2 | E71: V
A72: Karšková Viktória | B72: O4 | C72: A | D72: ch6 | E72: I
A73: Kertészová Sarah | B73: O4 | C73: A | D73: ch5 | E73: II
A74: Kim Alex | B74: O6 | C74: I | D74: ch2 | E74: V
A75: Kissová Kiara | B75: O4 | C75: A | D75: ch5 | E75: III
A76: Kleščová Barbora | B76: O4 | C76: B | D76: ch6 | E76: III
A77: Kleščová Lucia | B77: O6 | C77: I | D77: ch2 | E77: V
A78: Klimon Radoslav | B78: O6 | C78: I | D78: ch2
A79: Klužáková Martina | B79: O7 | C79: N | D79: ch5 | E79: III
A80: Klymko Dariia | B80: O6 | C80: I | D80: ch2 | E80: V
A81: Kolumberová Lenka | B81: O6 | C81: I | D81: ch2
A82: Komlóšiová Sophie | B82: O4 | C82: B | D82: ch5 | E82: V
A83: Komrsková Katarína | B83: O6 | C83: I | D83: ch2
A84: Korzun Milana | B84: O10 | C84: L | D84: ch6
A85: Kostochkin Miroslav Aleksejevič | B85: O6 | C85: I | D85: ch2
A86: Kováčová Nina | B86: O9 | C86: O | D86: ch1 | E86: III
A87: Kovalíková Tatiana | B87: O6 | C87: I | D87: ch2
A88: Kozovská Michaela | B88: O6 | C88: I | D88: ch2 | E88: I
A89: Krajčíková Nina | B89: O6 | C89: J | D89: ch2 | E89: IV
A90: Kramarčíková Zoja | B90: O1 | C90: D | D90: ch3
A91: Krištofíková Natália | B91: O6 | C91: J | D91: ch2 | E91: VI
A92: Krochmaľová Júlia | B92: O6 | C92: J | D92: ch2
A93: Krupová Ema | B93: O8 | C93: J | D93: ch1
A94: Kukulevska Anhelina | B94: O8 | C94: J | D94: ch1
A95: Kürthyová Viktória | B95: O8 | C95: J | D95: ch1
A96: Lášticová Bronislava | B96: O8 | C96: J | D96: ch2
A97: Lengyel Samuel | B97: O8 | C97: O | D97: ch5 | E97: II
A98: Liszecka Anna | B98: O4 | C98: B | D98: ch5 | E98: I
A99: Ľubčiková Mária | B99: O4 | C99: B | D99: ch5 | E99: III
A100: Macharová Nina | B100: O4 | C100: B | D100: ch6 | E100: I
...

Sheet Hárok1
A2: MT | D2: O1-O10 | G2: A-P | J2: ch1-ch6 | M2: I-III
A3: I | B3: =COUNTIF('1bB'!$D$3:$E$200,A3) -> 15 | D3: O1 | E3: =COUNTIF('1bB'!$B$3:$B$200,D3) -> 19 | G3: A | H3: =COUNTIF('1bB'!$C$3:$C$200,G3) -> 11 | J3: ch1 | K3: =COUNTIF('1bB'!$D$3:$D$200,J3) -> 30 | M3: I | N3: =COUNTIF('1bB'!$E$3:$E$200,M3) -> 15
A4: II | B4: =COUNTIF('1bB'!$D$3:$E$200,A4) -> 15 | D4: O2 | E4: =COUNTIF('1bB'!$B$3:$B$200,D4) -> 18 | G4: B | H4: =COUNTIF('1bB'!$C$3:$C$200,G4) -> 11 | J4: ch2 | K4: =COUNTIF('1bB'!$D$3:$D$200,J4) -> 30 | M4: II | N4: =COUNTIF('1bB'!$E$3:$E$200,M4) -> 15
A5: III | B5: =COUNTIF('1bB'!$D$3:$E$200,A5) -> 15 | D5: O3 | E5: =COUNTIF('1bB'!$B$3:$B$200,D5) -> 19 | G5: C | H5: =COUNTIF('1bB'!$C$3:$C$200,G5) -> 12 | J5: ch3 | K5: =COUNTIF('1bB'!$D$3:$D$200,J5) -> 31 | M5: III | N5: =COUNTIF('1bB'!$E$3:$E$200,M5) -> 15
A6: IV | B6: =COUNTIF('1bB'!$D$3:$E$200,A6) -> 15 | D6: O4 | E6: =COUNTIF('1bB'!$B$3:$B$200,D6) -> 18 | G6: D | H6: =COUNTIF('1bB'!$C$3:$C$200,G6) -> 12 | J6: ch4 | K6: =COUNTIF('1bB'!$D$3:$D$200,J6) -> 31 | M6: IV | N6: =COUNTIF('1bB'!$E$3:$E$200,M6) -> 15
A7: V | B7: =COUNTIF('1bB'!$D$3:$E$200,A7) -> 16 | D7: O5 | E7: =COUNTIF('1bB'!$B$3:$B$200,D7) -> 18 | G7: E | H7: =COUNTIF('1bB'!$C$3:$C$200,G7) -> 11 | J7: ch5 | K7: =COUNTIF('1bB'!$D$3:$D$200,J7) -> 31 | M7: V | N7: =COUNTIF('1bB'!$E$3:$E$200,M7) -> 16
A8: VI | B8: =COUNTIF('1bB'!$D$3:$E$200,A8) -> 16 | D8: O6 | E8: =COUNTIF('1bB'!$B$3:$B$200,D8) -> 18 | G8: F | H8: =COUNTIF('1bB'!$C$3:$C$200,G8) -> 11 | J8: ch6 | K8: =COUNTIF('1bB'!$D$3:$D$200,J8) -> 32 | M8: VI | N8: =COUNTIF('1bB'!$E$3:$E$200,M8) -> 16
A9: VII | B9: =COUNTIF('1bB'!$D$3:$E$200,A9) -> 0 | D9: O7 | E9: =COUNTIF('1bB'!$B$3:$B$200,D9) -> 18 | G9: G | H9: =COUNTIF('1bB'!$C$3:$C$200,G9) -> 12
A10: VIII | B10: =COUNTIF('1bB'!$D$3:$E$200,A10) -> 0 | D10: O8 | E10: =COUNTIF('1bB'!$B$3:$B$200,D10) -> 19 | G10: H | H10: =COUNTIF('1bB'!$C$3:$C$200,G10) -> 12
D11: O9 | E11: =COUNTIF('1bB'!$B$3:$B$200,D11) -> 19 | G11: I | H11: =COUNTIF('1bB'!$C$3:$C$200,G11) -> 12
D12: O10 | E12: =COUNTIF('1bB'!$B$3:$B$200,D12) -> 19 | G12: J | H12: =COUNTIF('1bB'!$C$3:$C$200,G12) -> 12
G13: K | H13: =COUNTIF('1bB'!$C$3:$C$200,G13) -> 12
G14: L | H14: =COUNTIF('1bB'!$C$3:$C$200,G14) -> 12
G15: M | H15: =COUNTIF('1bB'!$C$3:$C$200,G15) -> 12
G16: N | H16: =COUNTIF('1bB'!$C$3:$C$200,G16) -> 11
G17: O | H17: =COUNTIF('1bB'!$C$3:$C$200,G17) -> 11
G18: P | H18: =COUNTIF('1bB'!$C$3:$C$200,G18) -> 11
