Workbook

Sheet 2B
A1: 2 Biológia | F1: 8 á 16 | G1: 7 á 18 | H1: 8 á 15
A2: číslo | B2: Priezvisko | C2: Meno | D2: Ročník | E2: Program | F2: FZČ | G2: GEN | H2: MOLBIO
A3: 1 | B3: Antošíková | C3: Ema | D3: 1 | E3: bB | F3: 4 | G3: F | H3: II. | J3: Fyziológia živočíchov a človeka: skupiny 1 až 8
A4: 2 | B4: Astapenkov | C4: Roman | D4: 1 | E4: bB | F4: 1 | G4: G | H4: II. | J4: sk. 1 | K4: Po 9:50 - 11:20
A5: 3 | B5: Ballová | C5: Dominika | D5: 1 | E5: bB | F5: 1 | G5: F | H5: VII. | J5: 2 | K5: Ut 7:20 - 8:50
A6: 4 | B6: Bednáriková | C6: Laura | D6: 1 | E6: bB | F6: 1 | G6: E | H6: V. | J6: 3 | K6: Ut 15:40 - 17:10
A7: 5 | B7: Belovičová | C7: Lucia | D7: 1 | E7: bB | F7: 1 | G7: G | H7: II. | J7: 4 | K7: Štv 14:50 -16:20
A8: 7 | B8: Blašková | C8: Erika | D8: 1 | E8: bB | F8: 1 | G8: G | H8: II. | J8: 5 | K8: Štv 16:30 - 18:00
A9: 8 | B9: Blažiová | C9: Emma Alica | D9: 1 | E9: bB | F9: 4 | G9: F | H9: V. | J9: 6 | K9: Pia 7:20 - 8:50
A10: 9 | B10: Blín | C10: Marek | D10: 1 | E10: bB | F10: 4 | G10: F | H10: II. | J10: 7 | K10: Pia 9:00 - 10:30
A11: 10 | B11: Bóriková | C11: Kamila | D11: 1 | E11: bB | F11: 5 | G11: D | H11: V. | J11: 8 | K11: Pia 10:40 - 12:10
A12: 11 | B12: Brandýsová | C12: Natália | D12: 1 | E12: bB | F12: 1 | G12: A | H12: VII.
A13: 12 | B13: Bujtárová | C13: Izabela | D13: 1 | E13: bB | F13: 1 | G13: G | H13: II. | J13: Genetika: skupiny A až G
A14: 13 | B14: Caňová | C14: Karolína | D14: 1 | E14: bB | F14: 3 | G14: C | H14: V. | J14: sk. A | K14: Po 8:10 - 9:40
A15: 14 | B15: Csókasová | C15: Natália | D15: 1 | E15: bB | F15: 4 | G15: D | H15: II. | J15: B | K15: Po 9:50 - 11:20
A16: 15 | B16: Čambalová | C16: Alžbeta | D16: 1 | E16: bB | F16: 1 | G16: G | H16: II. | J16: C | K16: Po 14:50 -16:20
A17: 16 | B17: Čanky | C17: Šimon | D17: 1 | E17: bB | F17: 3 | G17: C | H17: V. | J17: D | K17: Po 16:30 - 18:00
A18: 17 | B18: Čuřík | C18: Michal | D18: 1 | E18: bB | F18: 1 | G18: C | H18: VII. | J18: E | K18: Ut 9:00 - 10:30
A19: 18 | B19: Dorušiaková | C19: Tímea | D19: 1 | E19: bB | F19: 1 | G19: A | H19: VII. | J19: F | K19: Ut 14:50 - 16:20
A20: 19 | B20: Drengubiaková | C20: Valéria | D20: 1 | E20: bB | F20: 3 | G20: C | H20: V. | J20: G | K20: Štv 14:50 - 16:20
A21: 20 | B21: Dubinová | C21: Erika | D21: 1 | E21: bB | F21: 1 | G21: G | H21: II.
A22: 21 | B22: Dvorská | C22: Emma | D22: 1 | E22: bB | F22: 1 | G22: G | H22: II. | J22: Molekulárna biológia: skupiny I. až VIII.
A23: 121 | B23: Fedorová | C23: Dominika | D23: 2 | E23: bB-FZ | F23: 3 | G23: C | H23: V. | J23: sk. I | K23: Ut 7:20 - 10:20 B2-202 NT
A24: 22 | B24: Fodorová | C24: Chiara Eszter | D24: 1 | E24: bB | F24: 1 | G24: G | H24: II. | J24: II | K24: Ut 7:20 - 10:20 B2-202 PT
A25: 23 | B25: Gavendová | C25: Kamila | D25: 1 | E25: bB | F25: 2 | G25: G | H25: V. | J25: III | K25: Ut 7:20 - 10:20 B2-004 NT
A26: 24 | B26: Glazunova | C26: Anna | D26: 1 | E26: bB | F26: 4 | G26: F | H26: I. | J26: IV | K26: Ut 7:20 - 10:20 B2-004 PT
A27: 25 | B27: Gröneová | C27: Karolína | D27: 1 | E27: bB | F27: 6 | G27: D | H27: II. | J27: V | K27: Str 8:10 - 11:10 B2-202 NT
A28: 26 | B28: Guoth | C28: Michael | D28: 1 | E28: bB | F28: 8 | G28: F | H28: VII. | J28: VI | K28: Str 8:10 - 11:10 B2-202 PT
A29: 27 | B29: Hajmássy | C29: Tamara | D29: 1 | E29: bB | F29: 7 | G29: G | H29: II. | J29: VII | K29: Štv 13:10 - 16:10 B2-202 NT
A30: 28 | B30: Hájovská | C30: Elza | D30: 1 | E30: bB | F30: 3 | G30: D | H30: V. | J30: VIII | K30: Štv 13:10 - 16:10 B2-202 PT
A31: 115 | B31: Hanzen | C31: Leyla Rose | D31: 2 | E31: bB | F31: 3 | G31: E | H31: V.
A32: 29 | B32: Havelková | C32: Vanda | D32: 1 | E32: bB | F32: 6 | G32: D | H32: III.
A33: 30 | B33: Havryliuk | C33: Oksana | D33: 1 | E33: bB | F33: 6 | G33: D | H33: III.
A34: 31 | B34: Horková | C34: Sofia | D34: 1 | E34: bB | F34: 7 | G34: A | H34: III.
A35: 32 | B35: Horváthová | C35: Timea | D35: 1 | E35: bB | F35: 7 | G35: G | H35: III.
A36: 33 | B36: Hrabovská | C36: Nela | D36: 1 | E36: bB | F36: 3 | G36: C | H36: VI.
A37: 34 | B37: Hulková | C37: Sofia | D37: 1 | E37: bB | F37: 3 | G37: D | H37: III.
A38: 35 | B38: Husárová | C38: Katarína | D38: 1 | E38: bB | F38: 3 | G38: D | H38: III.
A39: 36 | B39: Jakábová | C39: Laura | D39: 1 | E39: bB | F39: 6 | G39: D | H39: III.
A40: 37 | B40: Jašíčková | C40: Lea | D40: 1 | E40: bB | F40: 3 | G40: C | H40: V.
...

Sheet Hárok2
A1: FZČ
A2: 1 | B2: =COUNTIF('2B'!F:F,$A2) -> 16
A3: 2 | B3: =COUNTIF('2B'!F:F,$A3) -> 15
A4: 3 | B4: =COUNTIF('2B'!F:F,$A4) -> 16
A5: 4 | B5: =COUNTIF('2B'!F:F,$A5) -> 15
A6: 5 | B6: =COUNTIF('2B'!F:F,$A6) -> 16
A7: 6 | B7: =COUNTIF('2B'!F:F,$A7) -> 15
A8: 7 | B8: =COUNTIF('2B'!F:F,$A8) -> 13
A9: 8 | B9: =COUNTIF('2B'!F:F,$A9) -> 15
A10: spolu | B10: =SUM(B2:B9) -> 121
A12: Genetika
A13: A | B13: =COUNTIF('2B'!G:G,$A13) -> 18
A14: B | B14: =COUNTIF('2B'!G:G,$A14) -> 18
A15: C | B15: =COUNTIF('2B'!G:G,$A15) -> 15
A16: D | B16: =COUNTIF('2B'!G:G,$A16) -> 18
A17: E | B17: =COUNTIF('2B'!G:G,$A17) -> 15
A18: F | B18: =COUNTIF('2B'!G:G,$A18) -> 18
A19: G | B19: =COUNTIF('2B'!G:G,$A19) -> 18
A20: spolu | B20: =SUM(B13:B19) -> 120
A22: Mol. biol.
A23: I. | B23: =COUNTIF('2B'!H:H,$A23) -> 15
A24: II. | B24: =COUNTIF('2B'!H:H,$A24) -> 15
A25: III. | B25: =COUNTIF('2B'!H:H,$A25) -> 15
A26: IV. | B26: =COUNTIF('2B'!H:H,$A26) -> 15
A27: V. | B27: =COUNTIF('2B'!H:H,$A27) -> 14
A28: VI. | B28: =COUNTIF('2B'!H:H,$A28) -> 15
A29: VII. | B29: =COUNTIF('2B'!H:H,$A29) -> 15
A30: VIII. | B30: =COUNTIF('2B'!H:H,$A30) -> 16
A31: spolu | B31: =SUM(B23:B30) -> 120
