Workbook

Sheet 1MB
A1: 1Medicínska biológia
A2: číslo | B2: Priezvisko | C2: Meno | D2: ročník | E2: odbor | F2: cv. Biológia bunky | G2: cv. OCH pre Bio/ s z OCH/ Výb.cv. z ident. | H2: cv. z Chémie pre bio/ Zákl.chem.výp. | I2: cv. Funkčná morfol. človeka
A3: 1 | B3: Adam | C3: Kristián | D3: 1 | E3: bMB | F3: 1 | G3: 5O | H3: A | I3: 3
A4: 2 | B4: Babej | C4: Marek | D4: 1 | E4: bMB | F4: 1 | G4: 5O | H4: A | I4: 3
A5: 3 | B5: Bahurinská | C5: Zoja | D5: 1 | E5: bMB | F5: 1 | G5: 5O | H5: A | I5: 3
A6: 4 | B6: Bartošová | C6: Tímea | D6: 1 | E6: bMB | F6: 1 | G6: 5O | H6: A | I6: 3
A7: 5 | B7: Beňová | C7: Nina | D7: 1 | E7: bMB | F7: 1 | G7: 5O | H7: A | I7: 3
A8: 6 | B8: Bereščáková | C8: Tímea | D8: 1 | E8: bMB | F8: 1 | G8: 5O | H8: A | I8: 3
A9: 7 | B9: Bieľaková | C9: Ema | D9: 1 | E9: bMB | F9: 1 | G9: 5O | H9: A | I9: 5
A10: 8 | B10: Bilukha | C10: Sofiia | D10: 1 | E10: bMB | F10: 1 | G10: 5O | H10: A | I10: 3
A11: 9 | B11: Blažencová | C11: Barbora | D11: 1 | E11: bMB | F11: 1 | G11: 5O | H11: A | I11: 3
A12: 10 | B12: Brozhak | C12: Vladyslava | D12: 1 | E12: bMB | F12: 1 | G12: 1O | H12: C | I12: 1
A13: 11 | B13: Bujalková | C13: Nina | D13: 1 | E13: bMB | F13: 1 | G13: 1O | H13: C | I13: 1
A14: 12 | B14: Bulko | C14: Yaraslava | D14: 1 | E14: bMB | F14: 1 | G14: 1O | H14: C | I14: 1
... A48: 46 | B48: Mishohlo | C48: Mariia | D48: 1 | E48: bMB | F48: 3 | G48: 3O | H48: G | I48: 5
A49: 47 | B49: Nekorancová | C49: Michaela | D49: 1 | E49: bMB | F49: 3 | G49: 3O | H49: G
A50: 48 | B50: Nevolná | C50: Alžbeta | D50: 1 | E50: bMB | F50: 3 | G50: 3O | H50: G | I50: 5
A51: 49 | B51: Oberemok | C51: Tamara | D51: 1 | E51: bMB | F51: 3 | G51: 3O | H51: G | I51: 5
A52: 50 | B52: Ondasová | C52: Katarína | D52: 1 | E52: bMB | F52: 3 | G52: 3O | H52: G | I52: 5
A53: 51 | B53: Oravcová | C53: Veronika | D53: 1 | E53: bMB | F53: 3 | G53: 3O | H53: G | I53: 5
A54: 52 | B54: Pagorová | C54: Tamara | D54: 1 | E54: bMB | F54: 3 | G54: 3O | H54: G | I54: 5
A55: 53 | B55: Parašínová | C55: Corina | D55: 1 | E55: bMB | F55: 3 | G55: 3O | H55: G | I55: 5
A56: 54 | B56: Partl | C56: Patrik | D56: 1 | E56: bMB | F56: 3 | G56: 3O | H56: G | I56: 5
A57: 55 | B57: Pastieríková | C57: Emma | D57: 1 | E57: bMB | F57: 4 | G57: 4O | H57: B | I57: 2
A58: 56 | B58: Paulínyová | C58: Petra | D58: 1 | E58: bMB | F58: 4 | G58: 4O | H58: B | I58: 2
A59: 57 | B59: Petruňová | C59: Tímea | D59: 1 | E59: bMB | F59: 4 | G59: 4O | H59: B | I59: 2
A60: 58 | B60: Egressyová | C60: Sophia | D60: 1 | E60: bMB | F60: 4 | G60: 4O | H60: B | I60: 2
A61: 59 | B61: Poliak | C61: Sebastián | D61: 1 | E61: bMB | F61: 4 | G61: 4O | H61: B | I61: 2
... A87: 85 | B87: Vlčková | C87: Miroslava | D87: 1 | E87: bMB | F87: 4 | G87: 3O | H87: H | I87: 4
B88: Jašica | C88: Adam | D88: 2 | E88: bB | F88: 3

Sheet Hárok1
A2: cv. Biológia bunky
A3: 1 | B3: =COUNTIF('1MB'!F:F,$A3) -> 18
A4: 2 | B4: =COUNTIF('1MB'!F:F,$A4) -> 18
A5: 3 | B5: =COUNTIF('1MB'!F:F,$A5) -> 20
A6: 4 | B6: =COUNTIF('1MB'!F:F,$A6) -> 19
A7: 5 | B7: =COUNTIF('1MB'!F:F,$A7) -> 11
A8: spolu | B8: =SUM(B3:B7) -> 86
A10: cv. z Chémie pre bio/ Zákl.chem.výp.
A11: A | B11: =COUNTIF('1MB'!H:H,$A11) -> 12
A12: B | B12: =COUNTIF('1MB'!H:H,$A12) -> 11
A13: C | B13: =COUNTIF('1MB'!H:H,$A13) -> 12
A14: D | B14: =COUNTIF('1MB'!H:H,$A14) -> 12
A15: E | B15: =COUNTIF('1MB'!H:H,$A15) -> 12
A16: F | B16: =COUNTIF('1MB'!H:H,$A16) -> 12
A17: G | B17: =COUNTIF('1MB'!H:H,$A17) -> 12
A18: H | B18: =COUNTIF('1MB'!H:H,$A18) -> 2
A19: spolu | B19: =SUM(B11:B18) -> 85
A21: cv. OCH pre Bio/ s z OCH/ Výb.cv. z ident.
A22: 1O | B22: =COUNTIF('1MB'!G:G,A22) -> 19
A23: 2O | B23: =COUNTIF('1MB'!G:G,A23) -> 19
A24: 3O | B24: =COUNTIF('1MB'!G:G,A24) -> 20
A25: 4O | B25: =COUNTIF('1MB'!G:G,A25) -> 18
A26: 5O | B26: =COUNTIF('1MB'!G:G,A26) -> 9
A27: spolu | B27: =SUM(B22:B26) -> 85
A29: cv. Funkčná morfol. človeka
A30: 1 | B30: =COUNTIF('1MB'!I:I,A30) -> 18
A31: 2 | B31: =COUNTIF('1MB'!I:I,A31) -> 18
A32: 3 | B32: =COUNTIF('1MB'!I:I,A32) -> 17
A33: 4 | B33: =COUNTIF('1MB'!I:I,A33) -> 13
A34: 5 | B34: =COUNTIF('1MB'!I:I,A34) -> 18
A35: spolu | B35: =SUM(B30:B34) -> 84
