Workbook

Sheet 1B
A1: 1 Biológia | F1: Cv. z CH Zákl.chem.výp. | G1: OCH | H1: Zool., BB | I1: Mikr.tech
A2: číslo | B2: Priezvisko | C2: Meno | D2: Ročník | E2: Program | F2: A-Q | G2: O1-O11 | H2: 45931 | I2: I-VII
A3: 1 | B3: Agócsová | C3: Brigitta | D3: 1 | E3: bB | F3: A | G3: O10 | H3: 1
A4: 2 | B4: Almásiová | C4: Kiara | D4: 1 | E4: bB | F4: C | G4: O3 | H4: 3 | I4: VI
A5: 214 | B5: Baláž | C5: Jozef | D5: 1 | E5: bB | F5: L | G5: O1 | H5: 9
A6: 3 | B6: Baleková | C6: Alena | D6: 1 | E6: bB | F6: P | G6: O7 | H6: 1
A7: 4 | B7: Barnová | C7: Annelise | D7: 1 | E7: bB | F7: A | G7: O10 | H7: 1
A8: 5 | B8: Bartáková | C8: Izabela | D8: 1 | E8: bB | F8: A | G8: O10 | H8: 1
A9: 6 | B9: Bazaria | C9: Lina | D9: 1 | E9: bB | F9: E | G9: O5 | H9: 4
A10: 7 | B10: Bažányová | C10: Nina | D10: 1 | E10: bB | F10: A | G10: O10 | H10: 1 | I10: I
A11: 8 | B11: Bednárik | C11: Adam | D11: 1 | E11: bB | F11: A | G11: O10 | H11: 1
A12: 9 | B12: Beneš | C12: Martin | D12: 1 | E12: bB | F12: P | G12: O6 | H12: 2 | I12: II
A13: 10 | B13: Beňovský | C13: Ondrej | D13: 1 | E13: bB | F13: A | G13: O10 | H13: 1
A14: 11 | B14: Borisová | C14: Carolin Antonia | D14: 1 | E14: bB | F14: A | G14: O10 | H14: 1
A15: 12 | B15: Bozalka | C15: Matej | D15: 1 | E15: bB | F15: A | G15: O10 | H15: 1
A16: 13 | B16: Božiková | C16: Karin | D16: 1 | E16: bB | F16: E | G16: O4 | H16: 4
A17: 14 | B17: Bučeková | C17: Katarína | D17: 1 | E17: bB | F17: P | G17: O6 | H17: 2
A18: 15 | B18: Budinská | C18: Ema | D18: 1 | E18: bB | F18: Q | G18: O7 | H18: 8 | I18: II
A19: 16 | B19: Bujnová | C19: Zoja | D19: 1 | E19: bB | F19: Q | G19: O7 | H19: 8 | I19: II
A20: 17 | B20: Byrkovych | C20: Renata | D20: 1 | E20: bB | F20: E | G20: O5 | H20: 4
A21: 18 | B21: Cehuľová | C21: Júlia | D21: 1 | E21: bB | F21: A | G21: O10 | H21: 1
A22: 19 | B22: Csenkeyová | C22: Denisa | D22: 1 | E22: bB | F22: H | G22: O11 | H22: 5
A23: 20 | B23: Csóková | C23: Laura | D23: 1 | E23: bB | F23: E | G23: O2 | H23: 4
A24: 212 | B24: Čermáková | C24: Sulika | D24: 1 | E24: bB | F24: K | G24: O9 | H24: 7
A25: 21 | B25: Čížová | C25: Sophia | D25: 1 | E25: bB | F25: P | G25: O7 | H25: 1 | I25: II
A26: 22 | B26: Daniš | C26: Filip | D26: 1 | E26: bB | F26: P | G26: O7 | H26: 1
A27: 23 | B27: Dávidová | C27: Karin | D27: 1 | E27: bB | F27: A | G27: O10 | H27: 1 | I27: VI
A28: 24 | B28: De Pasquale Abrego | C28: Karen Anabela | D28: 1 | E28: bB | F28: A | G28: O10 | H28: 1
A29: 25 | B29: Demchyk | C29: Stanislav | D29: 1 | E29: bB | F29: D | G29: O5 | H29: 2 | I29: III
A30: 26 | B30: Drozdík | C30: Oliver | D30: 1 | E30: bB | F30: I | G30: O11 | H30: 5
A31: 27 | B31: Drozdík | C31: Oskar | D31: 1 | E31: bB | F31: I | G31: O11 | H31: 5
A32: 216 | B32: Ďuráková | C32: Letícia | D32: 1 | E32: bB | F32: C | G32: O8 | H32: 5
A33: 28 | B33: Ďurech | C33: Jakub | D33: 1 | E33: bB | F33: B | G33: O10 | H33: 1
A34: 29 | B34: Edmárová | C34: Henrieta Lara | D34: 1 | E34: bB | F34: P | G34: O6 | H34: 2 | I34: II
A35: 30 | B35: Fraňková | C35: Jaroslava | D35: 1 | E35: bB | F35: B | G35: O10 | H35: 1 | I35: I
A36: 31 | B36: Fundárková | C36: Martina | D36: 1 | E36: bB | F36: B | G36: O10 | H36: 1 | I36: I
A37: 32 | B37: Funtová | C37: Tamara | D37: 1 | E37: bB | F37: B | G37: O10 | H37: 3
A38: 33 | B38: Gajdošová | C38: Emma Kristína | D38: 1 | E38: bB | F38: B | G38: O10 | H38: 3
A39: 34 | B39: Gardoňová | C39: Eva | D39: 1 | E39: bB | F39: B | G39: O10 | H39: 3
A40: 210 | B40: Gerardis | C40: Marta | D40: 1 | E40: bB | F40: I | G40: O11 | H40: 5
A41: 35 | B41: Globinovská | C41: Monika | D41: 1 | E41: bB | F41: Q | G41: O7 | H41: 1
A42: 36 | B42: Grancová | C42: Paulína | D42: 1 | E42: bB | F42: D | G42: O2 | H42: 2
A43: 37 | B43: Gubová | C43: Ema | D43: 1 | E43: bB | F43: Q | G43: O7 | H43: 8 | I43: II
A44: 38 | B44: Gubová | C44: Paulína | D44: 1 | E44: bB | F44: O | G44: O7 | H44: 8
A45: 39 | B45: Gumirova | C45: Viktoriya | D45: 1 | E45: bB | F45: M | G45: O6 | H45: 3
A46: 40 | B46: Halászová | C46: Alexandra | D46: 1 | E46: bB | F46: B | G46: O3 | H46: 3 | I46: IV
A47: 41 | B47: Harvánek | C47: Adrián | D47: 1 | E47: bB | F47: B | G47: O3 | H47: 3
A48: 42 | B48: Havrillová | C48: Alexandra | D48: 1 | E48: bB | F48: Q | G48: O7 | H48: 8 | I48: II
A49: 43 | B49: Hedera | C49: Samuel | D49: 1 | E49: bB | F49: D | G49: O2 | H49: 2 | I49: II
A50: 44 | B50: Hechenberger | C50: Hana | D50: 1 | E50: bB | F50: B | G50: O3 | H50: 3
A51: 45 | B51: Herková | C51: Lucia | D51: 1 | E51: bB | F51: B | G51: O3 | H51: 3
A52: 206 | B52: Hlavatovičová | C52: Petra | D52: 1 | E52: bB | F52: H | G52: O4 | H52: 10 | I52: I
A53: 46 | B53: Hlúšková | C53: Denisa | D53: 1 | E53: bB | F53: D | G53: O2 | H53: 2 | I53: I
A54: 47 | B54: Horváthová | C54: Viktória | D54: 1 | E54: bB | F54: H | G54: O11 | H54: 5
A55: 48 | B55: Hoštáková | C55: Laura Katarína | D55: 1 | E55: bB | F55: B | G55: O3 | H55: 3
A56: 49 | B56: Hradský | C56: Tomáš | D56: 1 | E56: bB | F56: I | G56: O11 | H56: 5 | I56: II
A57: 50 | B57: Hupková | C57: Simona | D57: 1 | E57: bB | F57: B | G57: O3 | H57: 3
A58: 51 | B58: Chrvalová | C58: Katarína | D58: 1 | E58: bB | F58: C | G58: O3 | H58: 3 | I58: III
A59: 52 | B59: Jančišinová | C59: Brigitta | D59: 1 | E59: bB | F59: Q | G59: O7 | H59: 8 | I59: II
A60: 53 | B60: Jasovská | C60: Nina | D60: 1 | E60: bB | F60: A | G60: O10 | H60: 1 | I60: VI
B61: Jašica | C61: Adam | D61: 2 | E61: bB | F61: G | G61: O4
A62: 54 | B62: Jedináková | C62: Laura | D62: 1 | E62: bB | F62: P | G62: O6 | H62: 2 | I62: II
A63: 55 | B63: Jimsheleishvili | C63: Giorgi | D63: 1 | E63: bB | F63: C | G63: O3 | H63: 3
A64: 56 | B64: Jókayová | C64: Hana | D64: 1 | E64: bB | F64: P | G64: O6 | H64: 2
A65: 57 | B65: Jungerová | C65: Karin | D65: 1 | E65: bB | F65: D | G65: O2 | H65: 2 | I65: I
A66: 58 | B66: Jurčáková | C66: Nikola | D66: 1 | E66: bB | F66: C | G66: O3 | H66: 3
A67: 211 | B67: Kaliuzhnaia | C67: Aleksandra | D67: 1 | E67: bB | F67: D | G67: O6 | H67: 2
A68: 59 | B68: Karpenko | C68: Kateryna | D68: 1 | E68: bB | F68: C | G68: O3 | H68: 3
A69: 60 | B69: Khynotskyi | C69: Ivan | D69: 1 | E69: bB | F69: C | G69: O3 | H69: 3
A70: 61 | B70: Kiko | C70: Dominik | D70: 1 | E70: bB | F70: D | G70: O2 | H70: 6 | I70: I
A71: 62 | B71: Kiššová | C71: Katarína | D71: 1 | E71: bB | F71: Q | G71: O7 | H71: 8 | I71: II
A72: 63 | B72: Klementová | C72: Michaela | D72: 1 | E72: bB | F72: I | G72: O11 | H72: 5
A73: 64 | B73: Klempová | C73: Anita | D73: 1 | E73: bB | F73: C | G73: O3 | H73: 3 | I73: VI
A74: 65 | B74: Knapová | C74: Viktória | D74: 1 | E74: bB | F74: C | G74: O3 | H74: 3
A75: 66 | B75: Koleva | C75: Oľga | D75: 1 | E75: bB | F75: C | G75: O3 | H75: 3 | I75: VI
A76: 67 | B76: Komarova | C76: Anastasiia | D76: 1 | E76: bB | F76: P | G76: O6 | H76: 2
A77: 68 | B77: Konečná | C77: Johana | D77: 1 | E77: bB | F77: E | G77: O9 | H77: 6 | I77: V
A78: 69 | B78: Korlová | C78: Viktória | D78: 1 | E78: bB | F78: C | G78: O8 | H78: 5
A79: 70 | B79: Kormanová | C79: Alena | D79: 1 | E79: bB | F79: P | G79: O6 | H79: 8
A80: 71 | B80: Kosiuh | C80: Yuliia | D80: 1 | E80: bB | F80: D | G80: O2 | H80: 6 | I80: III
A81: 72 | B81: Kosmeľ | C81: Sebastián | D81: 1 | E81: bB | F81: C | G81: O8 | H81: 5
A82: 73 | B82: Kostochkin | C82: Miroslav Aleksejevič | D82: 1 | E82: bB | F82: C | G82: O8 | H82: 5
A83: 74 | B83: Kotačková | C83: Barbora | D83: 1 | E83: bB | F83: F | G83: O8 | H83: 4
A84: 75 | B84: Koterbová | C84: Soňa | D84: 1 | E84: bB | F84: F | G84: O8 | H84: 4
A85: 76 | B85: Kovbasiuk | C85: Marharyta | D85: 1 | E85: bB | F85: M | G85: O6 | H85: 3
A86: 208 | B86: Krajčiová | C86: Monika | D86: 1 | E86: bB | F86: B | G86: O3 | H86: 10 | I86: IV
A87: 77 | B87: Kramarčíková | C87: Zoja | D87: 1 | E87: bB | F87: F | G87: O8 | H87: 4
A88: 78 | B88: Krivušová | C88: Alžbeta | D88: 1 | E88: bB | F88: P | G88: O6 | H88: 8
A89: 79 | B89: Križáková | C89: Nina | D89: 1 | E89: bB | F89: F | G89: O8 | H89: 4 | I89: I
A90: 213 | B90: Křížová | C90: Sofia | D90: 1 | E90: bB | F90: E | G90: O5 | H90: 4 | I90: IV
A91: 80 | B91: Kubincová | C91: Monika | D91: 1 | E91: bB | F91: F | G91: O8 | H91: 4
A92: 81 | B92: Kuchár | C92: Šimon | D92: 1 | E92: bB | F92: F | G92: O8 | H92: 4
A93: 82 | B93: Kujovičová | C93: Romana | D93: 1 | E93: bB | F93: F | G93: O8 | H93: 4
A94: 83 | B94: Kunšteková | C94: Vanda | D94: 1 | E94: bB | F94: F | G94: O8 | H94: 4
A95: 84 | B95: Kurucová | C95: Simona | D95: 1 | E95: bB | F95: F | G95: O8 | H95: 4
A96: 85 | B96: Kuzmenko | C96: Vladyslav | D96: 1 | E96: bB | F96: F | G96: O8 | H96: 4
A97: 86 | B97: Kvaltýnová | C97: Katarína | D97: 1 | E97: bB | F97: F | G97: O8 | H97: 4 | I97: VII
A98: 87 | B98: Labancová | C98: Jana | D98: 1 | E98: bB | F98: D | G98: O2 | H98: 6 | I98: I
A99: 88 | B99: Lednická | C99: Vanesa | D99: 1 | E99: bB | F99: F | G99: O8 | H99: 4
A100: 89 | B100: Ledvinová | C100: Daniela Petra | D100: 1 | E100: bB | F100: O | G100: O7 | H100: 8
...

Sheet Hárok2
A2: Cv. z CH | D2: Zool., BB
A3: A | B3: =COUNTIF('1B'!F:F,$A3) -> 13 | D3: 1 | E3: =COUNTIF('1B'!H:H,$D3) -> 22 | G3: ut | H3: 14.50
A4: B | B4: =COUNTIF('1B'!F:F,$A4) -> 13 | D4: 2 | E4: =COUNTIF('1B'!H:H,$D4) -> 22 | G4: ut | H4: 45943
A5: C | B5: =COUNTIF('1B'!F:F,$A5) -> 13 | D5: 3 | E5: =COUNTIF('1B'!H:H,$D5) -> 22 | G5: po | H5: 11263
A6: D | B6: =COUNTIF('1B'!F:F,$A6) -> 13 | D6: 4 | E6: =COUNTIF('1B'!H:H,$D6) -> 22 | G6: št | H6: 9.00
A7: E | B7: =COUNTIF('1B'!F:F,$A7) -> 13 | D7: 5 | E7: =COUNTIF('1B'!H:H,$D7) -> 22 | G7: st | H7: 45938
A8: F | B8: =COUNTIF('1B'!F:F,$A8) -> 12 | D8: 6 | E8: =COUNTIF('1B'!H:H,$D8) -> 22 | G8: po | H8: 45943
A9: G | B9: =COUNTIF('1B'!F:F,$A9) -> 13 | D9: 7 | E9: =COUNTIF('1B'!H:H,$D9) -> 21 | G9: st | H9: 18507
A10: H | B10: =COUNTIF('1B'!F:F,$A10) -> 12 | D10: 8 | E10: =COUNTIF('1B'!H:H,$D10) -> 21 | G10: pi | H10: 9.00
A11: I | B11: =COUNTIF('1B'!F:F,$A11) -> 13 | D11: 9 | E11: =COUNTIF('1B'!H:H,$D11) -> 22 | G11: st | H11: 11263
A12: J | B12: =COUNTIF('1B'!F:F,$A12) -> 13 | D12: 10 | E12: =COUNTIF('1B'!H:H,$D12) -> 22 | G12: pi | H12: 44166
A13: K | B13: =COUNTIF('1B'!F:F,$A13) -> 13 | D13: spolu | E13: =SUM(E2:E12) -> 218
A14: L | B14: =COUNTIF('1B'!F:F,$A14) -> 13
A15: M | B15: =COUNTIF('1B'!F:F,$A15) -> 13
A16: N | B16: =COUNTIF('1B'!F:F,$A16) -> 12
A17: O | B17: =COUNTIF('1B'!F:F,$A17) -> 13
A18: P | B18: =COUNTIF('1B'!F:F,$A18) -> 13
A19: Q | B19: =COUNTIF('1B'!F:F,$A19) -> 13
A20: spolu | B20: =SUM(B3:B19) -> 218
A22: OCH | D22: Mikr.tech
A23: O1 | B23: =COUNTIF('1B'!G:G,$A23) -> 20 | D23: I | E23: =COUNTIF('1B'!I:I,$D23) -> 16 | G23: Po | H23: 11263
A24: O10 | B24: =COUNTIF('1B'!G:G,$A24) -> 19 | D24: II | E24: =COUNTIF('1B'!I:I,$D24) -> 16 | G24: Po | H24: 45943
A25: O11 | B25: =COUNTIF('1B'!G:G,$A25) -> 20 | D25: III | E25: =COUNTIF('1B'!I:I,$D25) -> 16 | G25: Po | H25: 45938
A26: O2 | B26: =COUNTIF('1B'!G:G,$A26) -> 20 | D26: IV | E26: =COUNTIF('1B'!I:I,$D26) -> 9 | G26: Ut | H26: 45943
A27: O3 | B27: =COUNTIF('1B'!G:G,$A27) -> 19 | D27: V | E27: =COUNTIF('1B'!I:I,$D27) -> 4 | G27: Ut | H27: 14.50
A28: O4 | B28: =COUNTIF('1B'!G:G,$A28) -> 20 | D28: VI | E28: =COUNTIF('1B'!I:I,$D28) -> 7 | G28: Ut | H28: 16.30
A29: O5 | B29: =COUNTIF('1B'!G:G,$A29) -> 20 | D29: VII | E29: =COUNTIF('1B'!I:I,$D29) -> 1 | G29: St | H29: 16.30
A30: O6 | B30: =COUNTIF('1B'!G:G,$A30) -> 20 | D30: spolu | E30: =SUM(E23:E29) -> 69
A31: O7 | B31: =COUNTIF('1B'!G:G,$A31) -> 20
A32: O8 | B32: =COUNTIF('1B'!G:G,$A32) -> 20
A33: O9 | B33: =COUNTIF('1B'!G:G,$A33) -> 19
A34: spolu | B34: =SUM(B23:B33) -> 217
