Workbook

Sheet 1B
A1: 1 Biológia | F1: Cv. z CH Zákl.chem.výp. | G1: OCH | H1: Zool., BB | I1: Mikr.tech
A2: číslo | B2: Priezvisko | C2: Meno | D2: Ročník | E2: Program | F2: A-Q | G2: O1-O11 | H2: 45931 | I2: I-VII
A3: 1 | B3: Agócsová | C3: Brigitta | D3: 1 | E3: bB | F3: A | G3: O10 | H3: 1
A4: 2 | B4: Almásiová | C4: Kiara | D4: 1 | E4: bB | F4: C | G4: O3 | H4: 3 | I4: VI
A5: 214 | B5: Baláž | C5: Jozef | D5: 1 | E5: bB | F5: L | G5: O1 | H5: 9
A6: 3 | B6: Baleková | C6: Alena | D6: 1 | E6: bB | F6: P | G6: O7 | H6: 1
A7: 4 | B7: Barnová | C7: Annelise | D7: 1 | E7: bB | F7: A | G7: O10 | H7: 1
A8: 5 | B8: Bartáková | C8: Izabela | D8: 1 | E8: bB | F8: A | G8: O10 | H8: 1
A9: 6 | B9: Bazaria | C9: Lina | D9: 1 | E9: bB | F9: E | G9: O5 | H9: 4
A10: 7 | B10: Bažányová | C10: Nina | D10: 1 | E10: bB | F10: A | G10: O10 | H10: 1 | I10: I
A11: 8 | B11: Bednárik | C11: Adam | D11: 1 | E11: bB | F11: A | G11: O10 | H11: 1
A12: 9 | B12: Beneš | C12: Martin | D12: 1 | E12: bB | F12: P | G12: O6 | H12: 2 | I12: II
A13: 10 | B13: Beňovský | C13: Ondrej | D13: 1 | E13: bB | F13: A | G13: O10 | H13: 1
A14: 11 | B14: Borisová | C14: Carolin Antonia | D14: 1 | E14: bB | F14: A | G14: O10 | H14: 1
A15: 12 | B15: Bozalka | C15: Matej | D15: 1 | E15: bB | F15: A | G15: O10 | H15: 1
A16: 13 | B16: Božiková | C16: Karin | D16: 1 | E16: bB | F16: E | G16: O4 | H16: 4
A17: 14 | B17: Bučeková | C17: Katarína | D17: 1 | E17: bB | F17: P | G17: O6 | H17: 2
A18: 15 | B18: Budinská | C18: Ema | D18: 1 | E18: bB | F18: Q | G18: O7 | H18: 8 | I18: II
A19: 16 | B19: Bujnová | C19: Zoja | D19: 1 | E19: bB | F19: Q | G19: O7 | H19: 8 | I19: II
A20: 17 | B20: Byrkovych | C20: Renata | D20: 1 | E20: bB | F20: E | G20: O5 | H20: 4
A21: 18 | B21: Cehuľová | C21: Júlia | D21: 1 | E21: bB | F21: A | G21: O10 | H21: 1
A22: 19 | B22: Csenkeyová | C22: Denisa | D22: 1 | E22: bB | F22: H | G22: O11 | H22: 5
A23: 20 | B23: Csóková | C23: Laura | D23: 1 | E23: bB | F23: E | G23: O2 | H23: 4
A24: 212 | B24: Čermáková | C24: Sulika | D24: 1 | E24: bB | F24: K | G24: O9 | H24: 7
A25: 21 | B25: Čížová | C25: Sophia | D25: 1 | E25: bB | F25: P | G25: O7 | H25: 1 | I25: II
A26: 22 | B26: Daniš | C26: Filip | D26: 1 | E26: bB | F26: P | G26: O7 | H26: 1
A27: 23 | B27: Dávidová | C27: Karin | D27: 1 | E27: bB | F27: A | G27: O10 | H27: 1 | I27: VI
A28: 24 | B28: De Pasquale Abrego | C28: Karen Anabela | D28: 1 | E28: bB | F28: A | G28: O10 | H28: 1
A29: 25 | B29: Demchyk | C29: Stanislav | D29: 1 | E29: bB | F29: D | G29: O5 | H29: 2 | I29: III
A30: 26 | B30: Drozdík | C30: Oliver | D30: 1 | E30: bB | F30: I | G30: O11 | H30: 5
A31: 27 | B31: Drozdík | C31: Oskar | D31: 1 | E31: bB | F31: I | G31: O11 | H31: 5
A32: 216 | B32: Ďuráková | C32: Letícia | D32: 1 | E32: bB | F32: C | G32: O8 | H32: 5
A33: 28 | B33: Ďurech | C33: Jakub | D33: 1 | E33: bB | F33: B | G33: O10 | H33: 1
A34: 29 | B34: Edmárová | C34: Henrieta Lara | D34: 1 | E34: bB | F34: P | G34: O6 | H34: 2 | I34: II
A35: 30 | B35: Fraňková | C35: Jaroslava | D35: 1 | E35: bB | F35: B | G35: O10 | H35: 1 | I35: I
A36: 31 | B36: Fundárková | C36: Martina | D36: 1 | E36: bB | F36: B | G36: O10 | H36: 1 | I36: I
A37: 32 | B37: Funtová | C37: Tamara | D37: 1 | E37: bB | F37: B | G37: O10 | H37: 3
A38: 33 | B38: Gajdošová | C38: Emma Kristína | D38: 1 | E38: bB | F38: B | G38: O10 | H38: 3
A39: 34 | B39: Gardoňová | C39: Eva | D39: 1 | E39: bB | F39: B | G39: O10 | H39: 3
A40: 210 | B40: Gerardis | C40: Marta | D40: 1 | E40: bB | F40: I | G40: O11 | H40: 5
...

Sheet Hárok2
A2: Cv. z CH | D2: Zool., BB
A3: A | B3: =COUNTIF('1B'!F:F,$A3) -> 13 | D3: 1 | E3: =COUNTIF('1B'!H:H,$D3) -> 22 | G3: ut | H3: 14.50
A4: B | B4: =COUNTIF('1B'!F:F,$A4) -> 13 | D4: 2 | E4: =COUNTIF('1B'!H:H,$D4) -> 22 | G4: ut | H4: 45943
A5: C | B5: =COUNTIF('1B'!F:F,$A5) -> 13 | D5: 3 | E5: =COUNTIF('1B'!H:H,$D5) -> 22 | G5: po | H5: 11263
A6: D | B6: =COUNTIF('1B'!F:F,$A6) -> 13 | D6: 4 | E6: =COUNTIF('1B'!H:H,$D6) -> 22 | G6: št | H6: 9.00
A7: E | B7: =COUNTIF('1B'!F:F,$A7) -> 13 | D7: 5 | E7: =COUNTIF('1B'!H:H,$D7) -> 22 | G7: st | H7: 45938
A8: F | B8: =COUNTIF('1B'!F:F,$A8) -> 12 | D8: 6 | E8: =COUNTIF('1B'!H:H,$D8) -> 22 | G8: po | H8: 45943
A9: G | B9: =COUNTIF('1B'!F:F,$A9) -> 13 | D9: 7 | E9: =COUNTIF('1B'!H:H,$D9) -> 21 | G9: st | H9: 18507
A10: H | B10: =COUNTIF('1B'!F:F,$A10) -> 12 | D10: 8 | E10: =COUNTIF('1B'!H:H,$D10) -> 21 | G10: pi | H10: 9.00
A11: I | B11: =COUNTIF('1B'!F:F,$A11) -> 13 | D11: 9 | E11: =COUNTIF('1B'!H:H,$D11) -> 22 | G11: st | H11: 11263
A12: J | B12: =COUNTIF('1B'!F:F,$A12) -> 13 | D12: 10 | E12: =COUNTIF('1B'!H:H,$D12) -> 22 | G12: pi | H12: 44166
A13: K | B13: =COUNTIF('1B'!F:F,$A13) -> 13 | D13: spolu | E13: =SUM(E2:E12) -> 218
A14: L | B14: =COUNTIF('1B'!F:F,$A14) -> 13
A15: M | B15: =COUNTIF('1B'!F:F,$A15) -> 13
A16: N | B16: =COUNTIF('1B'!F:F,$A16) -> 12
A17: O | B17: =COUNTIF('1B'!F:F,$A17) -> 13
A18: P | B18: =COUNTIF('1B'!F:F,$A18) -> 13
A19: Q | B19: =COUNTIF('1B'!F:F,$A19) -> 13
A20: spolu | B20: =SUM(B3:B19) -> 218
A22: OCH | D22: Mikr.tech
A23: O1 | B23: =COUNTIF('1B'!G:G,$A23) -> 20 | D23: I | E23: =COUNTIF('1B'!I:I,$D23) -> 16 | G23: Po | H23: 11263
A24: O10 | B24: =COUNTIF('1B'!G:G,$A24) -> 19 | D24: II | E24: =COUNTIF('1B'!I:I,$D24) -> 16 | G24: Po | H24: 45943
A25: O11 | B25: =COUNTIF('1B'!G:G,$A25) -> 20 | D25: III | E25: =COUNTIF('1B'!I:I,$D25) -> 16 | G25: Po | H25: 45938
A26: O2 | B26: =COUNTIF('1B'!G:G,$A26) -> 20 | D26: IV | E26: =COUNTIF('1B'!I:I,$D26) -> 9 | G26: Ut | H26: 45943
A27: O3 | B27: =COUNTIF('1B'!G:G,$A27) -> 19 | D27: V | E27: =COUNTIF('1B'!I:I,$D27) -> 4 | G27: Ut | H27: 14.50
A28: O4 | B28: =COUNTIF('1B'!G:G,$A28) -> 20 | D28: VI | E28: =COUNTIF('1B'!I:I,$D28) -> 7 | G28: Ut | H28: 16.30
A29: O5 | B29: =COUNTIF('1B'!G:G,$A29) -> 20 | D29: VII | E29: =COUNTIF('1B'!I:I,$D29) -> 1 | G29: St | H29: 16.30
A30: O6 | B30: =COUNTIF('1B'!G:G,$A30) -> 20 | D30: spolu | E30: =SUM(E23:E29) -> 69
A31: O7 | B31: =COUNTIF('1B'!G:G,$A31) -> 20
A32: O8 | B32: =COUNTIF('1B'!G:G,$A32) -> 20
A33: O9 | B33: =COUNTIF('1B'!G:G,$A33) -> 19
A34: spolu | B34: =SUM(B23:B33) -> 217
