Workbook

Sheet 1B
A1: 1bc Biológia
A2: Por. | B2: Priezvisko | C2: Meno | D2: roč. | E2: Analyt. chémia | F2: Mikro+Viro | G2: Biochémia | H2: Botanika | I2: Antropológia
A3: 1 | B3: Antošíková | C3: Ema | D3: 1 | E3: I | F3: I. | G3: 1 | H3: 1 | I3: 1
A4: 2 | B4: Astapenkov | C4: Roman | D4: 1 | E4: I | F4: I. | G4: 1 | H4: 1 | I4: 1
A5: 3 | B5: Bahnová | C5: Karolína | D5: 1 | E5: I | F5: I. | G5: 1 | H5: 1 | I5: 1
A6: 4 | B6: Bako | C6: Alexander | D6: 1 | E6: I | F6: I. | G6: 1 | H6: 1 | I6: 1
A7: 5 | B7: Baláž | C7: Jozef | D7: 1 | E7: I | F7: I. | G7: 1 | H7: 1 | I7: 1
A8: 6 | B8: Ballová | C8: Dominika | D8: 1 | E8: I | F8: I. | G8: 1 | H8: 1 | I8: 1
A9: 7 | B9: Bednáriková | C9: Laura | D9: 1 | E9: A | F9: I. | G9: 1 | H9: 1 | I9: 1
A10: 8 | B10: Belovičová | C10: Lucia | D10: 1 | E10: A | F10: I. | G10: 1 | H10: 1 | I10: 1
A11: 9 | B11: Bírová | C11: Rebecca | D11: 1 | E11: A | F11: I. | G11: 1 | H11: 1 | I11: 1
A12: 10 | B12: Blanárová | C12: Nina | D12: 1 | E12: A | F12: I. | G12: 1 | H12: 1 | I12: 1
A13: 11 | B13: Blašková | C13: Erika | D13: 1 | E13: A | F13: I. | G13: 1 | H13: 1 | I13: 1
A14: 12 | B14: Blažiová | C14: Emma Alica | D14: 1 | E14: A | F14: I. | G14: 1 | H14: 1 | I14: 1
A15: 13 | B15: Blichár | C15: Oliver | D15: 1 | E15: A | F15: I. | G15: 1 | H15: 1 | I15: 1
A16: 14 | B16: Blín | C16: Marek | D16: 1 | E16: A | F16: I. | G16: 1 | H16: 1 | I16: 1
... A50: 48 | B50: Husárová | C50: Katarína | D50: 1 | E50: C | F50: III. | G50: 3 | H50: 3 | I50: 3
A51: 151 | B51: Ivánková | C51: Romana | D51: 2 | I51: 4
A52: 49 | B52: Jakábová | C52: Laura | D52: 1 | E52: C | F52: III. | G52: 3 | H52: 3 | I52: 3
A53: 50 | B53: Jašíčková | C53: Lea | D53: 1 | E53: C | F53: III. | G53: 3 | H53: 3 | I53: 3
A54: 51 | B54: Jedličáková | C54: Timea | D54: 1 | E54: C | F54: III. | G54: 3 | H54: 3 | I54: 3
A55: 52 | B55: Juhás | C55: Marko | D55: 1 | E55: C | F55: III. | G55: 3 | H55: 3 | I55: 3
A56: 53 | B56: Kaliuzhnaia | C56: Aleksandra | D56: 1 | E56: C | F56: III. | G56: 3 | H56: 3 | I56: 3
A57: 54 | B57: Kamenická | C57: Alexandra | D57: 1 | E57: C | F57: III. | G57: 3 | H57: 3 | I57: 3
A58: 55 | B58: Kántorová | C58: Kitty | D58: 1 | E58: C | F58: III. | G58: 3 | H58: 3 | I58: 3
A59: 56 | B59: Kapraľová | C59: Marianna | D59: 1 | E59: C | F59: III. | G59: 3 | H59: 3 | I59: 3
A60: 57 | B60: Kicková | C60: Tereza | D60: 1 | E60: C | F60: III. | G60: 3 | H60: 3 | I60: 3
A61: 58 | B61: Klamíková | C61: Daniela | D61: 1 | E61: C | F61: III. | G61: 3 | H61: 3 | I61: 3
A62: 59 | B62: Kmeťová | C62: Sofia | D62: 1 | E62: C | F62: III. | G62: 3 | H62: 3 | I62: 3
A63: 60 | B63: Kobzar | C63: Kateryna | D63: 1 | E63: C | F63: III. | G63: 2 | H63: 2 | I63: 2
... A104: 96 | B104: Murín | C104: Adrián | D104: 1 | E104: F | F104: V. | G104: 5 | H104: 5 | I104: 5
A105: 154 | B105: Mytiushyna | C105: Sofiia | D105: 2 | I105: 7
A106: 97 | B106: Navrkalová | C106: Natália Sonam | D106: 1 | E106: G | F106: V. | G106: 5 | H106: 5 | I106: 5
A107: 98 | B107: Nechvátalová | C107: Petra | D107: 1 | E107: G | F107: V. | G107: 5 | H107: 5 | I107: 5
A108: 99 | B108: Novák | C108: Daniel | D108: 1 | E108: G | F108: V. | G108: 5 | H108: 5 | I108: 5
A109: 100 | B109: Novosadová | C109: Soňa | D109: 1 | E109: G | F109: V. | G109: 5 | H109: 5 | I109: 5
A110: 101 | B110: Pavelková | C110: Daniela | D110: 1 | E110: G | F110: V. | G110: 5 | H110: 5 | I110: 5
A111: 102 | B111: Pažičan | C111: Marek | D111: 1 | E111: G | F111: V. | G111: 5 | H111: 5 | I111: 5
A112: 103 | B112: Pintérová | C112: Nikoletta | D112: 1 | E112: G | F112: V. | G112: 5 | H112: 5 | I112: 5
A113: 104 | B113: Počarovská | C113: Kristína | D113: 1 | E113: G | F113: V. | G113: 5 | H113: 5 | I113: 5
A114: 105 | B114: Polák | C114: Ján | D114: 1 | E114: G | F114: V. | G114: 5 | H114: 5 | I114: 5
A115: 106 | B115: Ponická | C115: Ema | D115: 1 | E115: G | F115: V. | G115: 5 | H115: 5 | I115: 5
A116: 107 | B116: Popovičová | C116: Anastázia | D116: 1 | E116: G | F116: V. | G116: 5 | H116: 5 | I116: 5
A117: 108 | B117: Pribilinec | C117: Tomáš | D117: 1 | E117: G | F117: V. | G117: 5 | H117: 5 | I117: 5
... A159: 150 | B159: Žemlová | C159: Natália | D159: 1 | E159: D | F159: VII. | G159: 7 | H159: 7 | I159: 7

Sheet Hárok1
B1: MV
A2: I. | B2: =COUNTIFS('1B'!$F$3:$F$160,A2) -> 21
A3: II. | B3: =COUNTIFS('1B'!$F$3:$F$160,A3) -> 20
A4: II. | B4: =COUNTIFS('1B'!$F$3:$F$160,A4) -> 20
A5: IV. | B5: =COUNTIFS('1B'!$F$3:$F$160,A5) -> 20
A6: V. | B6: =COUNTIFS('1B'!$F$3:$F$160,A6) -> 20
A7: VI. | B7: =COUNTIFS('1B'!$F$3:$F$160,A7) -> 20
A8: VII. | B8: =COUNTIFS('1B'!$F$3:$F$160,A8) -> 20
A9: VIII. | B9: =COUNTIFS('1B'!$F$3:$F$160,A9) -> 14
B10: ACH
A11: A | B11: =COUNTIFS('1B'!$E$3:$E$160,A11) -> 18
A12: B | B12: =COUNTIFS('1B'!$E$3:$E$160,A12) -> 18
A13: C | B13: =COUNTIFS('1B'!$E$3:$E$160,A13) -> 18
A14: D | B14: =COUNTIFS('1B'!$E$3:$E$160,A14) -> 18
A15: F | B15: =COUNTIFS('1B'!$E$3:$E$160,A15) -> 18
A16: H | B16: =COUNTIFS('1B'!$E$3:$E$160,A16) -> 18
A17: I | B17: =COUNTIFS('1B'!$E$3:$E$160,A17) -> 11
B19: BX | C19: BO | D19: AN
A20: 1 | B20: =COUNTIFS('1B'!$G$3:$G$160,$A20) -> 24 | C20: =COUNTIFS('1B'!$H$3:$H$160,$A20) -> 24 | D20: =COUNTIFS('1B'!$I$3:$I$160,$A20) -> 24
A21: 2 | B21: =COUNTIFS('1B'!$G$3:$G$160,$A21) -> 22 | C21: =COUNTIFS('1B'!$H$3:$H$160,$A21) -> 22 | D21: =COUNTIFS('1B'!$I$3:$I$160,$A21) -> 24
A22: 3 | B22: =COUNTIFS('1B'!$G$3:$G$160,$A22) -> 20 | C22: =COUNTIFS('1B'!$H$3:$H$160,$A22) -> 20 | D22: =COUNTIFS('1B'!$I$3:$I$160,$A22) -> 20
A23: 4 | B23: =COUNTIFS('1B'!$G$3:$G$160,$A23) -> 24 | C23: =COUNTIFS('1B'!$H$3:$H$160,$A23) -> 24 | D23: =COUNTIFS('1B'!$I$3:$I$160,$A23) -> 25
A24: 5 | B24: =COUNTIFS('1B'!$G$3:$G$160,$A24) -> 24 | C24: =COUNTIFS('1B'!$H$3:$H$160,$A24) -> 24 | D24: =COUNTIFS('1B'!$I$3:$I$160,$A24) -> 24
A25: 6 | B25: =COUNTIFS('1B'!$G$3:$G$160,$A25) -> 23 | C25: =COUNTIFS('1B'!$H$3:$H$160,$A25) -> 24 | D25: =COUNTIFS('1B'!$I$3:$I$160,$A25) -> 23
A26: 7 | B26: =COUNTIFS('1B'!$G$3:$G$160,$A26) -> 18 | C26: =COUNTIFS('1B'!$H$3:$H$160,$A26) -> 17 | D26: =COUNTIFS('1B'!$I$3:$I$160,$A26) -> 17
